BEGIN:VCALENDAR
VERSION:2.0
PRODID:-//Sch&uuml;tzenverein Meinheim - ECPv6.15.20//NONSGML v1.0//EN
CALSCALE:GREGORIAN
METHOD:PUBLISH
X-WR-CALNAME:Sch&uuml;tzenverein Meinheim
X-ORIGINAL-URL:https://svmeinheim.de
X-WR-CALDESC:Veranstaltungen für Sch&uuml;tzenverein Meinheim
REFRESH-INTERVAL;VALUE=DURATION:PT1H
X-Robots-Tag:noindex
X-PUBLISHED-TTL:PT1H
BEGIN:VTIMEZONE
TZID:UTC
BEGIN:STANDARD
TZOFFSETFROM:+0000
TZOFFSETTO:+0000
TZNAME:UTC
DTSTART:20240101T000000
END:STANDARD
END:VTIMEZONE
BEGIN:VEVENT
DTSTART;TZID=UTC:20250720T123000
DTEND;TZID=UTC:20250720T123000
DTSTAMP:20260424T084649
CREATED:20250716T061504Z
LAST-MODIFIED:20251015T100457Z
UID:906-1753014600-1753014600@svmeinheim.de
SUMMARY:100 Jahre Schützenverein Absberg - Festumzug
DESCRIPTION:
URL:https://svmeinheim.de/event/100-jahre-schuetzenverein-absberg-festumzug/
ATTACH;FMTTYPE=image/jpeg:https://svmeinheim.de/wp-content/uploads/2025/07/20250720_Schuezenfest_Absberg-11_1-scaled.jpg
END:VEVENT
END:VCALENDAR