BEGIN:VCALENDAR
VERSION:2.0
PRODID:-//Sch&uuml;tzenverein Meinheim - ECPv6.15.20//NONSGML v1.0//EN
CALSCALE:GREGORIAN
METHOD:PUBLISH
X-WR-CALNAME:Sch&uuml;tzenverein Meinheim
X-ORIGINAL-URL:https://svmeinheim.de
X-WR-CALDESC:Veranstaltungen für Sch&uuml;tzenverein Meinheim
REFRESH-INTERVAL;VALUE=DURATION:PT1H
X-Robots-Tag:noindex
X-PUBLISHED-TTL:PT1H
BEGIN:VTIMEZONE
TZID:UTC
BEGIN:STANDARD
TZOFFSETFROM:+0000
TZOFFSETTO:+0000
TZNAME:UTC
DTSTART:20250101T000000
END:STANDARD
END:VTIMEZONE
BEGIN:VEVENT
DTSTART;TZID=UTC:20260105T193000
DTEND;TZID=UTC:20260105T193000
DTSTAMP:20260424T083146
CREATED:20251230T150716Z
LAST-MODIFIED:20251230T150836Z
UID:920-1767641400-1767641400@svmeinheim.de
SUMMARY:Generalversammlung
DESCRIPTION:
URL:https://svmeinheim.de/event/generalversammlung-2/
LOCATION:Schutzenhaus Meinheim\, Hagenbuchring 11\, Meinheim\, 91802\, Deutschland
ATTACH;FMTTYPE=image/jpeg:https://svmeinheim.de/wp-content/uploads/2025/12/20260105_Generalversammlung_2026_1-scaled.jpg
END:VEVENT
END:VCALENDAR