BEGIN:VCALENDAR
VERSION:2.0
PRODID:-//Sch&uuml;tzenverein Meinheim - ECPv6.15.20//NONSGML v1.0//EN
CALSCALE:GREGORIAN
METHOD:PUBLISH
X-WR-CALNAME:Sch&uuml;tzenverein Meinheim
X-ORIGINAL-URL:https://svmeinheim.de
X-WR-CALDESC:Veranstaltungen für Sch&uuml;tzenverein Meinheim
REFRESH-INTERVAL;VALUE=DURATION:PT1H
X-Robots-Tag:noindex
X-PUBLISHED-TTL:PT1H
BEGIN:VTIMEZONE
TZID:UTC
BEGIN:STANDARD
TZOFFSETFROM:+0000
TZOFFSETTO:+0000
TZNAME:UTC
DTSTART:20250101T000000
END:STANDARD
END:VTIMEZONE
BEGIN:VEVENT
DTSTART;TZID=UTC:20260107T080000
DTEND;TZID=UTC:20260118T170000
DTSTAMP:20260424T083357
CREATED:20260108T105244Z
LAST-MODIFIED:20260108T105244Z
UID:925-1767772800-1768755600@svmeinheim.de
SUMMARY:Sauschießen Markt Berolzheim
DESCRIPTION:Herzliche Einladung zum Sauschießen unseres Patenverein aus B-Heim.\nWünsche Euch noch einen schönen Abend.
URL:https://svmeinheim.de/event/sauschiessen-markt-berolzheim/
ATTACH;FMTTYPE=image/jpeg:https://svmeinheim.de/wp-content/uploads/2026/01/WhatsApp-Image-2026-01-07-at-18.47.53.jpeg
END:VEVENT
END:VCALENDAR