BEGIN:VCALENDAR
VERSION:2.0
PRODID:-//Sch&uuml;tzenverein Meinheim - ECPv6.15.20//NONSGML v1.0//EN
CALSCALE:GREGORIAN
METHOD:PUBLISH
X-WR-CALNAME:Sch&uuml;tzenverein Meinheim
X-ORIGINAL-URL:https://svmeinheim.de
X-WR-CALDESC:Veranstaltungen für Sch&uuml;tzenverein Meinheim
REFRESH-INTERVAL;VALUE=DURATION:PT1H
X-Robots-Tag:noindex
X-PUBLISHED-TTL:PT1H
BEGIN:VTIMEZONE
TZID:UTC
BEGIN:STANDARD
TZOFFSETFROM:+0000
TZOFFSETTO:+0000
TZNAME:UTC
DTSTART:20240101T000000
END:STANDARD
END:VTIMEZONE
BEGIN:VEVENT
DTSTART;TZID=UTC:20250125T100000
DTEND;TZID=UTC:20250125T100000
DTSTAMP:20260420T082925
CREATED:20250118T093230Z
LAST-MODIFIED:20250118T093230Z
UID:851-1737799200-1737799200@svmeinheim.de
SUMMARY:Schlachtschüssel
DESCRIPTION:
URL:https://svmeinheim.de/event/schlachtschuessel-2/
LOCATION:Schutzenhaus Meinheim\, Hagenbuchring 11\, Meinheim\, 91802\, Deutschland
ATTACH;FMTTYPE=image/jpeg:https://svmeinheim.de/wp-content/uploads/2025/01/20250125_Schlachtschuessel_20251_1-scaled.jpg
END:VEVENT
END:VCALENDAR