BEGIN:VCALENDAR
VERSION:2.0
PRODID:-//Sch&uuml;tzenverein Meinheim - ECPv6.15.20//NONSGML v1.0//EN
CALSCALE:GREGORIAN
METHOD:PUBLISH
X-WR-CALNAME:Sch&uuml;tzenverein Meinheim
X-ORIGINAL-URL:https://svmeinheim.de
X-WR-CALDESC:Veranstaltungen für Sch&uuml;tzenverein Meinheim
REFRESH-INTERVAL;VALUE=DURATION:PT1H
X-Robots-Tag:noindex
X-PUBLISHED-TTL:PT1H
BEGIN:VTIMEZONE
TZID:UTC
BEGIN:STANDARD
TZOFFSETFROM:+0000
TZOFFSETTO:+0000
TZNAME:UTC
DTSTART:20240101T000000
END:STANDARD
END:VTIMEZONE
BEGIN:VEVENT
DTSTART;TZID=UTC:20250215T033000
DTEND;TZID=UTC:20250215T033000
DTSTAMP:20260424T083317
CREATED:20250209T093942Z
LAST-MODIFIED:20250209T095333Z
UID:865-1739590200-1739590200@svmeinheim.de
SUMMARY:Vereins-Skifahrt 2025
DESCRIPTION:Auf die Piste mit dem Schützenverein Meinheim! 🎿❄️ \nAm Samstag\, den 15. Februar 2025\, geht es wieder los – unsere Vereins-Skifahrt führt uns in ein traumhaftes Tiroler Skigebiet! Genießt einen unvergesslichen Skitag inklusive Busfahrt\, Skipass und unserem beliebten Bordfrühstück. \nSchnappt euch eure Skier und seid dabei! ⛷️🏔️\nSki heil wünscht der Schützenverein 1957 Meinheim e.V.
URL:https://svmeinheim.de/event/vereins-skifahrt-2025/
ATTACH;FMTTYPE=image/jpeg:https://svmeinheim.de/wp-content/uploads/2025/02/2025_Einladung_Vereins-Skifahrt_1-scaled.jpg
END:VEVENT
END:VCALENDAR